BEGIN:VCALENDAR
VERSION:2.0
PRODID:-//Melville Centre Abergavenny - ECPv6.15.20//NONSGML v1.0//EN
CALSCALE:GREGORIAN
METHOD:PUBLISH
X-WR-CALNAME:Melville Centre Abergavenny
X-ORIGINAL-URL:https://melvillecentre.org.uk
X-WR-CALDESC:Events for Melville Centre Abergavenny
REFRESH-INTERVAL;VALUE=DURATION:PT1H
X-Robots-Tag:noindex
X-PUBLISHED-TTL:PT1H
BEGIN:VTIMEZONE
TZID:Europe/London
BEGIN:DAYLIGHT
TZOFFSETFROM:+0000
TZOFFSETTO:+0100
TZNAME:BST
DTSTART:20230326T010000
END:DAYLIGHT
BEGIN:STANDARD
TZOFFSETFROM:+0100
TZOFFSETTO:+0000
TZNAME:GMT
DTSTART:20231029T010000
END:STANDARD
BEGIN:DAYLIGHT
TZOFFSETFROM:+0000
TZOFFSETTO:+0100
TZNAME:BST
DTSTART:20240331T010000
END:DAYLIGHT
BEGIN:STANDARD
TZOFFSETFROM:+0100
TZOFFSETTO:+0000
TZNAME:GMT
DTSTART:20241027T010000
END:STANDARD
BEGIN:DAYLIGHT
TZOFFSETFROM:+0000
TZOFFSETTO:+0100
TZNAME:BST
DTSTART:20250330T010000
END:DAYLIGHT
BEGIN:STANDARD
TZOFFSETFROM:+0100
TZOFFSETTO:+0000
TZNAME:GMT
DTSTART:20251026T010000
END:STANDARD
END:VTIMEZONE
BEGIN:VEVENT
DTSTART;TZID=Europe/London:20240419T193000
DTEND;TZID=Europe/London:20240419T213000
DTSTAMP:20260421T161912
CREATED:20240116T101803Z
LAST-MODIFIED:20240419T171849Z
UID:5134-1713555000-1713562200@melvillecentre.org.uk
SUMMARY:Maybe Dick
DESCRIPTION:MAYBE DICK\nBy John Hewer\nBased on the novel ‘Moby-Dick’ by Herman Melville\nDirected by Bruce Knight \nHerman Melville’s classic tale of revenge and retribution is retold in this inventive\, comic retelling on the high seas from the company behind ‘Just Like That! The Tommy Cooper Show’ and ‘Dracula! One Bloody Fang After Another’. \nNantucket\, 1841. Ishmael signs on to the Pequod\, and witnesses the perils of nature\, obsession\, punning and physical comedy\, as Captain Ahab conducts a reckless pursuit of the savage white whale\, Moby Dick. \nAll plot will be lampooned. All jokes will be harpooned. \n“Absolutely brought the house down” – Lincolnshire World \n“‘Carry On Moby Dick'” – North West End\n“You will be hit with wave after wave of silliness\, leaving a warm glow and a great big smile.” – Review Culture\n“You don’t need to know Moby-Dick to get the jokes. And there are plenty of jokes.” – Voicebox\n“This is fun knockabout stuff; we are never more than 30 seconds from the next punchline and Hewer has excellent comic timing and a winning naïveté.” – North West End\n“Hewer manages to play all the parts and maintain narrative coherence along with a stream of jokes and the odd musical interlude.” – Chiswick Calendar\n“The jokes came thick and fast. We left with huge\, aching smiles.” – TheatreFest \nNB: 12 + Age Restriction.
URL:https://melvillecentre.org.uk/event/maybe-dick/
LOCATION:The Melville Theatre\, The Melville Centre\, Pen-y-Pound\, Abergavenny\, Monmouthshire\, NP7 5UD\, United Kingdom
CATEGORIES:comedy,theatre
ATTACH;FMTTYPE=image/jpeg:https://melvillecentre.org.uk/wp-content/uploads/2024/01/MAYBE-DICK-Abergavenny-Melville-Arts-Centre-scaled.jpg
END:VEVENT
END:VCALENDAR