BEGIN:VCALENDAR
VERSION:2.0
PRODID:-//Melville Centre Abergavenny - ECPv6.15.20//NONSGML v1.0//EN
CALSCALE:GREGORIAN
METHOD:PUBLISH
X-ORIGINAL-URL:https://melvillecentre.org.uk
X-WR-CALDESC:Events for Melville Centre Abergavenny
REFRESH-INTERVAL;VALUE=DURATION:PT1H
X-Robots-Tag:noindex
X-PUBLISHED-TTL:PT1H
BEGIN:VTIMEZONE
TZID:Europe/London
BEGIN:DAYLIGHT
TZOFFSETFROM:+0000
TZOFFSETTO:+0100
TZNAME:BST
DTSTART:20250330T010000
END:DAYLIGHT
BEGIN:STANDARD
TZOFFSETFROM:+0100
TZOFFSETTO:+0000
TZNAME:GMT
DTSTART:20251026T010000
END:STANDARD
BEGIN:DAYLIGHT
TZOFFSETFROM:+0000
TZOFFSETTO:+0100
TZNAME:BST
DTSTART:20260329T010000
END:DAYLIGHT
BEGIN:STANDARD
TZOFFSETFROM:+0100
TZOFFSETTO:+0000
TZNAME:GMT
DTSTART:20261025T010000
END:STANDARD
BEGIN:DAYLIGHT
TZOFFSETFROM:+0000
TZOFFSETTO:+0100
TZNAME:BST
DTSTART:20270328T010000
END:DAYLIGHT
BEGIN:STANDARD
TZOFFSETFROM:+0100
TZOFFSETTO:+0000
TZNAME:GMT
DTSTART:20271031T010000
END:STANDARD
END:VTIMEZONE
BEGIN:VEVENT
DTSTART;TZID=Europe/London:20260207T150000
DTEND;TZID=Europe/London:20260207T170000
DTSTAMP:20260421T194225
CREATED:20260119T131204Z
LAST-MODIFIED:20260207T130734Z
UID:8779-1770476400-1770483600@melvillecentre.org.uk
SUMMARY:Abergavenny Day Rave
DESCRIPTION:Need to cut some shapes\, but not found a dancefloor?  Want to get the family moving\, but don’t know how?  NP BEATS presents a day rave for all the family\, playing the best in disco\, funk\, pop\, dnb\, house\, techno and much more.  Why not shimmy into town for a Saturday afternoon shindig with real life vinyl DJ’s\, disco light show and a live MC.  With a craft area for the kids and an open bar & café to keep you hydrated\, be sure to don your ravewear and bring along your friends! \nThis is a family event\, and all under 12’s will need to be accompanied by an adult. Teens age 13 – 16 may attend with a consent form signed by parents – Please click here to complete.
URL:https://melvillecentre.org.uk/event/abergavenny-day-rave/
LOCATION:The Melville Theatre\, The Melville Centre\, Pen-y-Pound\, Abergavenny\, Monmouthshire\, NP7 5UD\, United Kingdom
CATEGORIES:Disco/Rave
ATTACH;FMTTYPE=image/jpeg:https://melvillecentre.org.uk/wp-content/uploads/2026/01/Abergavenny-Day-Rave-Flyer-A2-Landscape.jpg
END:VEVENT
END:VCALENDAR