BEGIN:VCALENDAR
VERSION:2.0
PRODID:-//Melville Centre Abergavenny - ECPv6.15.20//NONSGML v1.0//EN
CALSCALE:GREGORIAN
METHOD:PUBLISH
X-WR-CALNAME:Melville Centre Abergavenny
X-ORIGINAL-URL:https://melvillecentre.org.uk
X-WR-CALDESC:Events for Melville Centre Abergavenny
REFRESH-INTERVAL;VALUE=DURATION:PT1H
X-Robots-Tag:noindex
X-PUBLISHED-TTL:PT1H
BEGIN:VTIMEZONE
TZID:Europe/London
BEGIN:DAYLIGHT
TZOFFSETFROM:+0000
TZOFFSETTO:+0100
TZNAME:BST
DTSTART:20250330T010000
END:DAYLIGHT
BEGIN:STANDARD
TZOFFSETFROM:+0100
TZOFFSETTO:+0000
TZNAME:GMT
DTSTART:20251026T010000
END:STANDARD
BEGIN:DAYLIGHT
TZOFFSETFROM:+0000
TZOFFSETTO:+0100
TZNAME:BST
DTSTART:20260329T010000
END:DAYLIGHT
BEGIN:STANDARD
TZOFFSETFROM:+0100
TZOFFSETTO:+0000
TZNAME:GMT
DTSTART:20261025T010000
END:STANDARD
BEGIN:DAYLIGHT
TZOFFSETFROM:+0000
TZOFFSETTO:+0100
TZNAME:BST
DTSTART:20270328T010000
END:DAYLIGHT
BEGIN:STANDARD
TZOFFSETFROM:+0100
TZOFFSETTO:+0000
TZNAME:GMT
DTSTART:20271031T010000
END:STANDARD
END:VTIMEZONE
BEGIN:VEVENT
DTSTART;TZID=Europe/London:20260216T100000
DTEND;TZID=Europe/London:20260220T150000
DTSTAMP:20260420T171149
CREATED:20260116T113633Z
LAST-MODIFIED:20260120T122501Z
UID:8773-1771236000-1771599600@melvillecentre.org.uk
SUMMARY:Half Term Acting workshops
DESCRIPTION:5-DAY ACTING WORKSHOP \nFebruary Half Term\nAges 11–17\n 10am–3pm\n Book now: www.improvstarsacademy.com
URL:https://melvillecentre.org.uk/event/half-term-acting-workshops/
LOCATION:The Melville Theatre\, The Melville Centre\, Pen-y-Pound\, Abergavenny\, Monmouthshire\, NP7 5UD\, United Kingdom
CATEGORIES:theatre,workshops
ATTACH;FMTTYPE=image/jpeg:https://melvillecentre.org.uk/wp-content/uploads/2026/01/Improv-CLasses.jpg
END:VEVENT
END:VCALENDAR