BEGIN:VCALENDAR
VERSION:2.0
PRODID:-//Melville Centre Abergavenny - ECPv6.15.20//NONSGML v1.0//EN
CALSCALE:GREGORIAN
METHOD:PUBLISH
X-ORIGINAL-URL:https://melvillecentre.org.uk
X-WR-CALDESC:Events for Melville Centre Abergavenny
REFRESH-INTERVAL;VALUE=DURATION:PT1H
X-Robots-Tag:noindex
X-PUBLISHED-TTL:PT1H
BEGIN:VTIMEZONE
TZID:Europe/London
BEGIN:DAYLIGHT
TZOFFSETFROM:+0000
TZOFFSETTO:+0100
TZNAME:BST
DTSTART:20220327T010000
END:DAYLIGHT
BEGIN:STANDARD
TZOFFSETFROM:+0100
TZOFFSETTO:+0000
TZNAME:GMT
DTSTART:20221030T010000
END:STANDARD
BEGIN:DAYLIGHT
TZOFFSETFROM:+0000
TZOFFSETTO:+0100
TZNAME:BST
DTSTART:20230326T010000
END:DAYLIGHT
BEGIN:STANDARD
TZOFFSETFROM:+0100
TZOFFSETTO:+0000
TZNAME:GMT
DTSTART:20231029T010000
END:STANDARD
BEGIN:DAYLIGHT
TZOFFSETFROM:+0000
TZOFFSETTO:+0100
TZNAME:BST
DTSTART:20240331T010000
END:DAYLIGHT
BEGIN:STANDARD
TZOFFSETFROM:+0100
TZOFFSETTO:+0000
TZNAME:GMT
DTSTART:20241027T010000
END:STANDARD
END:VTIMEZONE
BEGIN:VEVENT
DTSTART;TZID=Europe/London:20230309T110000
DTEND;TZID=Europe/London:20230720T120000
DTSTAMP:20260423T143244
CREATED:20230201T152108Z
LAST-MODIFIED:20230505T100402Z
UID:3816-1678359600-1689854400@melvillecentre.org.uk
SUMMARY:Tai Chi Qi Gong
DESCRIPTION:Beginners Day Time 5 Week Course.\nThe Tai Chi Qi Gong 18 (Shibashi) Exercises are very easy to learn.  They are all performed from an upright position\, using slow\, soft flowing actions that are coordinated with the breathing.  This then benefits the relaxation and develops strength\, balance\, flexibility and concentration \nTai Chi Qi Gong is suitable for all ages. \nFor course start dates and to book your place\, please contact Keith Ewers on 01873 831241
URL:https://melvillecentre.org.uk/event/tai-chi-qi-gong/
LOCATION:Monmouthshire
CATEGORIES:community,wellness
ATTACH;FMTTYPE=image/jpeg:https://melvillecentre.org.uk/wp-content/uploads/2022/12/Tai-Chi-Keith-Ewers-Logo-1.jpg
END:VEVENT
BEGIN:VEVENT
DTSTART;TZID=Europe/London:20230403T190000
DTEND;TZID=Europe/London:20230626T200000
DTSTAMP:20260423T143244
CREATED:20221205T132641Z
LAST-MODIFIED:20230504T124342Z
UID:3677-1680548400-1687809600@melvillecentre.org.uk
SUMMARY:Tai Chi
DESCRIPTION:Beginners Tai Chi\nMonday evenings 7 – 8pm\nA great way to start the new year!  This practice helps to improve and maintain strength\, balance\,\ncoordination\, flexibility\, concentration and breathing. \nThe Li Style Tai Chi is also known as the “Square Yard Short Form” Style\, as it’s actions can be performed within a\nsmall confined area\, making it very accessible for all.  In this style\, movements are performed slowly\,\ngently and smoothly\, immediately helping to improve health and mental wellbeing. \nAll enquiries to Keith on 01873 831241 or email leefamilyarts@gmail.com \nClick here for more information
URL:https://melvillecentre.org.uk/event/tai-chi/
LOCATION:Monmouthshire
CATEGORIES:wellness
ATTACH;FMTTYPE=image/jpeg:https://melvillecentre.org.uk/wp-content/uploads/2022/12/Tai-Chi-image.jpg
END:VEVENT
END:VCALENDAR