BEGIN:VCALENDAR
VERSION:2.0
PRODID:-//Melville Centre Abergavenny - ECPv6.15.20//NONSGML v1.0//EN
CALSCALE:GREGORIAN
METHOD:PUBLISH
X-WR-CALNAME:Melville Centre Abergavenny
X-ORIGINAL-URL:https://melvillecentre.org.uk
X-WR-CALDESC:Events for Melville Centre Abergavenny
REFRESH-INTERVAL;VALUE=DURATION:PT1H
X-Robots-Tag:noindex
X-PUBLISHED-TTL:PT1H
BEGIN:VTIMEZONE
TZID:UTC
BEGIN:STANDARD
TZOFFSETFROM:+0000
TZOFFSETTO:+0000
TZNAME:UTC
DTSTART:20210101T000000
END:STANDARD
END:VTIMEZONE
BEGIN:VEVENT
DTSTART;TZID=UTC:20220420T200000
DTEND;TZID=UTC:20220420T223000
DTSTAMP:20260423T195043
CREATED:20220411T150318Z
LAST-MODIFIED:20220413T075817Z
UID:2976-1650484800-1650493800@melvillecentre.org.uk
SUMMARY:WEBB CITY (Black Mountain Jazz)
DESCRIPTION:  \n \n  \n  \n  \n  \n  \nWebb City\n20th April 2022: 8pm\nMelville Centre\, Abergavenny \nWe are back with our first club LIVE GIG in two years!! \n  \nWebb City celebrates the early piano trio style with rhythm guitar in place of drums. It features Dave Archer on rhythm guitar\,  Will Sach on double bass and Joe Webb on piano. \nThey play respect to jazz giants such as Oscar Peterson\, Fats Waller\, Art Tatum and Hank Jones. \nClick here for some clips from their “Art of Tatum” tour. Some of you may have seen Joe Webb at the recent wall2wall Jazz Festival when he accompanied Ella Hohnen-Ford – the video is still available to watch but only until the end of this month – via this link. \n  \nPlease Note \nWe are currently limited to 55 in the theatre\, although we hope that might improve. Ticket prices for Webb City are £16.50 (Friends of BMJ – £14.50). \nTo reserve tickets\, please email me via this link. \nKind regards \nMike
URL:https://melvillecentre.org.uk/event/webb-city-black-mountain-jazz/
LOCATION:Monmouthshire
CATEGORIES:Event
ATTACH;FMTTYPE=image/jpeg:https://melvillecentre.org.uk/wp-content/uploads/2022/04/black-mountain-webb-centre.jpg
END:VEVENT
BEGIN:VEVENT
DTSTART;TZID=UTC:20220414T193000
DTEND;TZID=UTC:20220414T220000
DTSTAMP:20260423T195043
CREATED:20220411T150151Z
LAST-MODIFIED:20220413T075823Z
UID:2974-1649964600-1649973600@melvillecentre.org.uk
SUMMARY:James Oliver plays The Pirates (music performance)
DESCRIPTION:James Oliver \n“James Oliver is without question one of THE finest guitarists to emerge from south Wales in recent years. With over 8 million YouTube views\, he spent 3 weeks at number one on the Amazon blues chart.\nThe late great Deke Leonard (of legendary Welsh rockers MAN) once said “speaking as a guitarist\, James Oliver scares the hell out of me..”.\nBill Kirchen\, the legendary American ‘Titan of the Telecaster’ says “James is the real deal\, a passionate roots player loaded with firepower…”\nThis show at Melville Theatre features James and his band performing classics from one of his main inspirations\, The Pirates…Shakin’ All Over\, Please Don’t Touch etc.” \nTickets click HERE
URL:https://melvillecentre.org.uk/event/james-oliver-plays-the-pirates-music-performance/
LOCATION:Monmouthshire
CATEGORIES:Event
ATTACH;FMTTYPE=image/png:https://melvillecentre.org.uk/wp-content/uploads/2022/02/April-gig-Jamie1.png
END:VEVENT
END:VCALENDAR