BEGIN:VCALENDAR
VERSION:2.0
PRODID:-//Melville Centre Abergavenny - ECPv6.15.20//NONSGML v1.0//EN
CALSCALE:GREGORIAN
METHOD:PUBLISH
X-WR-CALNAME:Melville Centre Abergavenny
X-ORIGINAL-URL:https://melvillecentre.org.uk
X-WR-CALDESC:Events for Melville Centre Abergavenny
REFRESH-INTERVAL;VALUE=DURATION:PT1H
X-Robots-Tag:noindex
X-PUBLISHED-TTL:PT1H
BEGIN:VTIMEZONE
TZID:Europe/London
BEGIN:DAYLIGHT
TZOFFSETFROM:+0000
TZOFFSETTO:+0100
TZNAME:BST
DTSTART:20230326T010000
END:DAYLIGHT
BEGIN:STANDARD
TZOFFSETFROM:+0100
TZOFFSETTO:+0000
TZNAME:GMT
DTSTART:20231029T010000
END:STANDARD
BEGIN:DAYLIGHT
TZOFFSETFROM:+0000
TZOFFSETTO:+0100
TZNAME:BST
DTSTART:20240331T010000
END:DAYLIGHT
BEGIN:STANDARD
TZOFFSETFROM:+0100
TZOFFSETTO:+0000
TZNAME:GMT
DTSTART:20241027T010000
END:STANDARD
BEGIN:DAYLIGHT
TZOFFSETFROM:+0000
TZOFFSETTO:+0100
TZNAME:BST
DTSTART:20250330T010000
END:DAYLIGHT
BEGIN:STANDARD
TZOFFSETFROM:+0100
TZOFFSETTO:+0000
TZNAME:GMT
DTSTART:20251026T010000
END:STANDARD
END:VTIMEZONE
BEGIN:VEVENT
DTSTART;TZID=Europe/London:20241012T190000
DTEND;TZID=Europe/London:20241012T210000
DTSTAMP:20260420T151903
CREATED:20240725T105614Z
LAST-MODIFIED:20241009T145614Z
UID:6303-1728759600-1728766800@melvillecentre.org.uk
SUMMARY:Rona Mac ~Album Release Tour
DESCRIPTION:Having recently played support for Willy Mason\, Billie Marten\, Katy J Pearson\, Bess Atwell and Dan Mangan\, Rona Mac is beginning to get the recognition she deserves. A truly independent DIY\, grass-roots artist from the most westerly tip of Wales\, Mac is a prolific songwriter carving her own pathway as a queer alt-folk artist. For 4 years she swings seamlessly between stripped back sounds of Elliott Smith and Laura Marling\, to the textures\, rhythm and overdrive of Ben Howard or Phoebe Bridge. Recorded\, produced and mixed by Mac in a caravan-studio\, her music comes raw and unfiltered\, aching with nostalgia that comes with rural\, rugged places. \n  \nFunded by PRS foundation\, Help Musicians and Horizons Launchpad (Arts Council Wales)\, upcoming album ‘Honeymilk and Heavy Weather’ is tenderly written for a lost friend\, and her best work to date. For 3 years she has carved these 11 tracks with love\, grief and determination\, pulling everything into alignment with what lies at it’s core. There’s a dense and heavy story behind this Album\, intertwined with themes of love\, loss\, mental illness\, suicide and water. Mac uses the sounds of fire\, rivers\, ocean and wind amongst these tracks\, as well as voice notes\, spoken word\, and all manner of strange and satisfying sounds. Always in-keeping with honest lyrics\, strong melodies\, harmonies and riffs that are a trademark of her work\, getting her recognition on BBC’s Radio 1\, 6 and Wales. \nMac’s grass-roots approach to music is tangible and real\, and her live performance is both impressive and transformative. \nShe will be touring this album around 13 decentralised locations around the UK to move music away from big cities\, as well as connecting with like-minded people. Could that be you?
URL:https://melvillecentre.org.uk/event/rona-mac-album-release-tour/
LOCATION:The Melville Theatre\, The Melville Centre\, Pen-y-Pound\, Abergavenny\, Monmouthshire\, NP7 5UD\, United Kingdom
CATEGORIES:music
ATTACH;FMTTYPE=image/png:https://melvillecentre.org.uk/wp-content/uploads/2024/07/RM-Tour-Square.png
END:VEVENT
BEGIN:VEVENT
DTSTART;TZID=Europe/London:20241025T193000
DTEND;TZID=Europe/London:20241025T213000
DTSTAMP:20260420T151903
CREATED:20240520T141947Z
LAST-MODIFIED:20241025T163442Z
UID:6068-1729884600-1729891800@melvillecentre.org.uk
SUMMARY:An evening of James Taylor
DESCRIPTION:James Taylor is the encapsulation of the best of American songwriting.\nHis music has touched millions worldwide over his ongoing 55 year\nstrong career and his music still stands up to the test of time.\n‘How Sweet It Is’ focuses more on Taylor’s early songwriting career\,\nfeaturing much loved songs\, such as ‘Sweet Baby James’\, ‘Something\nIn The Way She Moves’\, ‘Fire and Rain’ but also includes more recent\nclassics like the evocative ‘Frozen Man’. Vernon James performs the\nsongs true to how they were written and in the spirit of James Taylor\nhimself\, with a soulful lilt. During this two hour show\, you will be taken\non journey back to simpler times and happily lose yourself in the dulcet\ntones and sweet melodies of the finest songs written in the last half a\ncentury.
URL:https://melvillecentre.org.uk/event/an-evening-of-james-taylor/
LOCATION:The Melville Theatre\, The Melville Centre\, Pen-y-Pound\, Abergavenny\, Monmouthshire\, NP7 5UD\, United Kingdom
CATEGORIES:music
ATTACH;FMTTYPE=image/jpeg:https://melvillecentre.org.uk/wp-content/uploads/2024/05/An-Evening-Of-James-Taylor-poster-scaled.jpg
END:VEVENT
END:VCALENDAR